BEGIN:VCALENDAR
VERSION:2.0
PRODID:-//St. Mark Church, Coptic Orthodox Diocese of London - ECPv6.9.1//NONSGML v1.0//EN
CALSCALE:GREGORIAN
METHOD:PUBLISH
X-WR-CALNAME:St. Mark Church, Coptic Orthodox Diocese of London
X-ORIGINAL-URL:https://stmark.org.uk
X-WR-CALDESC:Events for St. Mark Church, Coptic Orthodox Diocese of London
REFRESH-INTERVAL;VALUE=DURATION:PT1H
X-Robots-Tag:noindex
X-PUBLISHED-TTL:PT1H
BEGIN:VTIMEZONE
TZID:Europe/London
BEGIN:DAYLIGHT
TZOFFSETFROM:+0000
TZOFFSETTO:+0100
TZNAME:BST
DTSTART:20240331T010000
END:DAYLIGHT
BEGIN:STANDARD
TZOFFSETFROM:+0100
TZOFFSETTO:+0000
TZNAME:GMT
DTSTART:20241027T010000
END:STANDARD
END:VTIMEZONE
BEGIN:VEVENT
DTSTART;TZID=Europe/London:20241106T090000
DTEND;TZID=Europe/London:20241106T110000
DTSTAMP:20260425T145422
CREATED:20221008T212910Z
LAST-MODIFIED:20221008T212910Z
UID:4488-1730883600-1730890800@stmark.org.uk
SUMMARY:Liturgy
DESCRIPTION:
URL:https://stmark.org.uk/event/liturgy-224/
LOCATION:St Mark’s Coptic Orthodox Church\, St Mark's Coptic Orthodox Church\, Allen Street\,\, London\, Middlesex\, W8 6UX\, United Kingdom
CATEGORIES:Liturgy
ORGANIZER;CN="Church Fathers":MAILTO:contact@stmark.org.uk
END:VEVENT
BEGIN:VEVENT
DTSTART;TZID=Europe/London:20241109T090000
DTEND;TZID=Europe/London:20241109T110000
DTSTAMP:20260425T145422
CREATED:20221008T213739Z
LAST-MODIFIED:20221008T213739Z
UID:4605-1731142800-1731150000@stmark.org.uk
SUMMARY:Liturgy
DESCRIPTION:
URL:https://stmark.org.uk/event/liturgy-340/
LOCATION:St Mark’s Coptic Orthodox Church\, St Mark's Coptic Orthodox Church\, Allen Street\,\, London\, Middlesex\, W8 6UX\, United Kingdom
CATEGORIES:Liturgy
ORGANIZER;CN="Church Fathers":MAILTO:contact@stmark.org.uk
END:VEVENT
BEGIN:VEVENT
DTSTART;TZID=Europe/London:20241110T070000
DTEND;TZID=Europe/London:20241110T093000
DTSTAMP:20260425T145422
CREATED:20221008T214406Z
LAST-MODIFIED:20221008T214406Z
UID:4723-1731222000-1731231000@stmark.org.uk
SUMMARY:Liturgy (Arabic)
DESCRIPTION:
URL:https://stmark.org.uk/event/liturgy-arabic-112/
LOCATION:St Mark’s Coptic Orthodox Church\, St Mark's Coptic Orthodox Church\, Allen Street\,\, London\, Middlesex\, W8 6UX\, United Kingdom
CATEGORIES:Liturgy
ORGANIZER;CN="Church Fathers":MAILTO:contact@stmark.org.uk
END:VEVENT
BEGIN:VEVENT
DTSTART;TZID=Europe/London:20241110T100000
DTEND;TZID=Europe/London:20241110T120000
DTSTAMP:20260425T145422
CREATED:20221008T215638Z
LAST-MODIFIED:20221008T215638Z
UID:4841-1731232800-1731240000@stmark.org.uk
SUMMARY:Liturgy (English)
DESCRIPTION:
URL:https://stmark.org.uk/event/liturgy-english-112/
LOCATION:St Mark’s Coptic Orthodox Church\, St Mark's Coptic Orthodox Church\, Allen Street\,\, London\, Middlesex\, W8 6UX\, United Kingdom
CATEGORIES:Liturgy
ORGANIZER;CN="Church Fathers":MAILTO:contact@stmark.org.uk
END:VEVENT
BEGIN:VEVENT
DTSTART;TZID=Europe/London:20241112T060000
DTEND;TZID=Europe/London:20241112T080000
DTSTAMP:20260425T145422
CREATED:20221008T210342Z
LAST-MODIFIED:20221008T210342Z
UID:4366-1731391200-1731398400@stmark.org.uk
SUMMARY:Liturgy
DESCRIPTION:
URL:https://stmark.org.uk/event/liturgy-108/
LOCATION:St Mark’s Coptic Orthodox Church\, St Mark's Coptic Orthodox Church\, Allen Street\,\, London\, Middlesex\, W8 6UX\, United Kingdom
CATEGORIES:Liturgy
ORGANIZER;CN="Church Fathers":MAILTO:contact@stmark.org.uk
END:VEVENT
BEGIN:VEVENT
DTSTART;TZID=Europe/London:20241113T090000
DTEND;TZID=Europe/London:20241113T110000
DTSTAMP:20260425T145422
CREATED:20221008T212911Z
LAST-MODIFIED:20221008T212911Z
UID:4489-1731488400-1731495600@stmark.org.uk
SUMMARY:Liturgy
DESCRIPTION:
URL:https://stmark.org.uk/event/liturgy-225/
LOCATION:St Mark’s Coptic Orthodox Church\, St Mark's Coptic Orthodox Church\, Allen Street\,\, London\, Middlesex\, W8 6UX\, United Kingdom
CATEGORIES:Liturgy
ORGANIZER;CN="Church Fathers":MAILTO:contact@stmark.org.uk
END:VEVENT
BEGIN:VEVENT
DTSTART;TZID=Europe/London:20241116T090000
DTEND;TZID=Europe/London:20241116T110000
DTSTAMP:20260425T145422
CREATED:20221008T213739Z
LAST-MODIFIED:20221008T213739Z
UID:4606-1731747600-1731754800@stmark.org.uk
SUMMARY:Liturgy
DESCRIPTION:
URL:https://stmark.org.uk/event/liturgy-341/
LOCATION:St Mark’s Coptic Orthodox Church\, St Mark's Coptic Orthodox Church\, Allen Street\,\, London\, Middlesex\, W8 6UX\, United Kingdom
CATEGORIES:Liturgy
ORGANIZER;CN="Church Fathers":MAILTO:contact@stmark.org.uk
END:VEVENT
BEGIN:VEVENT
DTSTART;TZID=Europe/London:20241117T070000
DTEND;TZID=Europe/London:20241117T093000
DTSTAMP:20260425T145422
CREATED:20221008T214420Z
LAST-MODIFIED:20221008T214420Z
UID:4724-1731826800-1731835800@stmark.org.uk
SUMMARY:Liturgy (Arabic)
DESCRIPTION:
URL:https://stmark.org.uk/event/liturgy-arabic-113/
LOCATION:St Mark’s Coptic Orthodox Church\, St Mark's Coptic Orthodox Church\, Allen Street\,\, London\, Middlesex\, W8 6UX\, United Kingdom
CATEGORIES:Liturgy
ORGANIZER;CN="Church Fathers":MAILTO:contact@stmark.org.uk
END:VEVENT
BEGIN:VEVENT
DTSTART;TZID=Europe/London:20241117T100000
DTEND;TZID=Europe/London:20241117T120000
DTSTAMP:20260425T145422
CREATED:20221008T215652Z
LAST-MODIFIED:20221008T215652Z
UID:4842-1731837600-1731844800@stmark.org.uk
SUMMARY:Liturgy (English)
DESCRIPTION:
URL:https://stmark.org.uk/event/liturgy-english-113/
LOCATION:St Mark’s Coptic Orthodox Church\, St Mark's Coptic Orthodox Church\, Allen Street\,\, London\, Middlesex\, W8 6UX\, United Kingdom
CATEGORIES:Liturgy
ORGANIZER;CN="Church Fathers":MAILTO:contact@stmark.org.uk
END:VEVENT
BEGIN:VEVENT
DTSTART;TZID=Europe/London:20241119T060000
DTEND;TZID=Europe/London:20241119T080000
DTSTAMP:20260425T145422
CREATED:20221008T210343Z
LAST-MODIFIED:20221008T210343Z
UID:4367-1731996000-1732003200@stmark.org.uk
SUMMARY:Liturgy
DESCRIPTION:
URL:https://stmark.org.uk/event/liturgy-109/
LOCATION:St Mark’s Coptic Orthodox Church\, St Mark's Coptic Orthodox Church\, Allen Street\,\, London\, Middlesex\, W8 6UX\, United Kingdom
CATEGORIES:Liturgy
ORGANIZER;CN="Church Fathers":MAILTO:contact@stmark.org.uk
END:VEVENT
BEGIN:VEVENT
DTSTART;TZID=Europe/London:20241120T090000
DTEND;TZID=Europe/London:20241120T110000
DTSTAMP:20260425T145422
CREATED:20221008T212925Z
LAST-MODIFIED:20221008T212925Z
UID:4490-1732093200-1732100400@stmark.org.uk
SUMMARY:Liturgy
DESCRIPTION:
URL:https://stmark.org.uk/event/liturgy-226/
LOCATION:St Mark’s Coptic Orthodox Church\, St Mark's Coptic Orthodox Church\, Allen Street\,\, London\, Middlesex\, W8 6UX\, United Kingdom
CATEGORIES:Liturgy
ORGANIZER;CN="Church Fathers":MAILTO:contact@stmark.org.uk
END:VEVENT
BEGIN:VEVENT
DTSTART;TZID=Europe/London:20241123T090000
DTEND;TZID=Europe/London:20241123T110000
DTSTAMP:20260425T145422
CREATED:20221008T213753Z
LAST-MODIFIED:20221008T213753Z
UID:4607-1732352400-1732359600@stmark.org.uk
SUMMARY:Liturgy
DESCRIPTION:
URL:https://stmark.org.uk/event/liturgy-342/
LOCATION:St Mark’s Coptic Orthodox Church\, St Mark's Coptic Orthodox Church\, Allen Street\,\, London\, Middlesex\, W8 6UX\, United Kingdom
CATEGORIES:Liturgy
ORGANIZER;CN="Church Fathers":MAILTO:contact@stmark.org.uk
END:VEVENT
BEGIN:VEVENT
DTSTART;TZID=Europe/London:20241124T070000
DTEND;TZID=Europe/London:20241124T093000
DTSTAMP:20260425T145422
CREATED:20221008T214420Z
LAST-MODIFIED:20221008T214420Z
UID:4725-1732431600-1732440600@stmark.org.uk
SUMMARY:Liturgy (Arabic)
DESCRIPTION:
URL:https://stmark.org.uk/event/liturgy-arabic-114/
LOCATION:St Mark’s Coptic Orthodox Church\, St Mark's Coptic Orthodox Church\, Allen Street\,\, London\, Middlesex\, W8 6UX\, United Kingdom
CATEGORIES:Liturgy
ORGANIZER;CN="Church Fathers":MAILTO:contact@stmark.org.uk
END:VEVENT
BEGIN:VEVENT
DTSTART;TZID=Europe/London:20241124T100000
DTEND;TZID=Europe/London:20241124T120000
DTSTAMP:20260425T145422
CREATED:20221008T215653Z
LAST-MODIFIED:20221008T215653Z
UID:4843-1732442400-1732449600@stmark.org.uk
SUMMARY:Liturgy (English)
DESCRIPTION:
URL:https://stmark.org.uk/event/liturgy-english-114/
LOCATION:St Mark’s Coptic Orthodox Church\, St Mark's Coptic Orthodox Church\, Allen Street\,\, London\, Middlesex\, W8 6UX\, United Kingdom
CATEGORIES:Liturgy
ORGANIZER;CN="Church Fathers":MAILTO:contact@stmark.org.uk
END:VEVENT
BEGIN:VEVENT
DTSTART;TZID=Europe/London:20241126T060000
DTEND;TZID=Europe/London:20241126T080000
DTSTAMP:20260425T145422
CREATED:20221008T210343Z
LAST-MODIFIED:20221008T210343Z
UID:4368-1732600800-1732608000@stmark.org.uk
SUMMARY:Liturgy
DESCRIPTION:
URL:https://stmark.org.uk/event/liturgy-110/
LOCATION:St Mark’s Coptic Orthodox Church\, St Mark's Coptic Orthodox Church\, Allen Street\,\, London\, Middlesex\, W8 6UX\, United Kingdom
CATEGORIES:Liturgy
ORGANIZER;CN="Church Fathers":MAILTO:contact@stmark.org.uk
END:VEVENT
BEGIN:VEVENT
DTSTART;TZID=Europe/London:20241127T090000
DTEND;TZID=Europe/London:20241127T110000
DTSTAMP:20260425T145422
CREATED:20221008T212925Z
LAST-MODIFIED:20221008T212925Z
UID:4491-1732698000-1732705200@stmark.org.uk
SUMMARY:Liturgy
DESCRIPTION:
URL:https://stmark.org.uk/event/liturgy-227/
LOCATION:St Mark’s Coptic Orthodox Church\, St Mark's Coptic Orthodox Church\, Allen Street\,\, London\, Middlesex\, W8 6UX\, United Kingdom
CATEGORIES:Liturgy
ORGANIZER;CN="Church Fathers":MAILTO:contact@stmark.org.uk
END:VEVENT
BEGIN:VEVENT
DTSTART;TZID=Europe/London:20241130T090000
DTEND;TZID=Europe/London:20241130T110000
DTSTAMP:20260425T145422
CREATED:20221008T213753Z
LAST-MODIFIED:20221008T213753Z
UID:4608-1732957200-1732964400@stmark.org.uk
SUMMARY:Liturgy
DESCRIPTION:
URL:https://stmark.org.uk/event/liturgy-343/
LOCATION:St Mark’s Coptic Orthodox Church\, St Mark's Coptic Orthodox Church\, Allen Street\,\, London\, Middlesex\, W8 6UX\, United Kingdom
CATEGORIES:Liturgy
ORGANIZER;CN="Church Fathers":MAILTO:contact@stmark.org.uk
END:VEVENT
BEGIN:VEVENT
DTSTART;TZID=Europe/London:20241201T070000
DTEND;TZID=Europe/London:20241201T093000
DTSTAMP:20260425T145422
CREATED:20221008T214420Z
LAST-MODIFIED:20221008T214420Z
UID:4726-1733036400-1733045400@stmark.org.uk
SUMMARY:Liturgy (Arabic)
DESCRIPTION:
URL:https://stmark.org.uk/event/liturgy-arabic-115/
LOCATION:St Mark’s Coptic Orthodox Church\, St Mark's Coptic Orthodox Church\, Allen Street\,\, London\, Middlesex\, W8 6UX\, United Kingdom
CATEGORIES:Liturgy
ORGANIZER;CN="Church Fathers":MAILTO:contact@stmark.org.uk
END:VEVENT
BEGIN:VEVENT
DTSTART;TZID=Europe/London:20241201T100000
DTEND;TZID=Europe/London:20241201T120000
DTSTAMP:20260425T145422
CREATED:20221008T215653Z
LAST-MODIFIED:20221008T215653Z
UID:4844-1733047200-1733054400@stmark.org.uk
SUMMARY:Liturgy (English)
DESCRIPTION:
URL:https://stmark.org.uk/event/liturgy-english-115/
LOCATION:St Mark’s Coptic Orthodox Church\, St Mark's Coptic Orthodox Church\, Allen Street\,\, London\, Middlesex\, W8 6UX\, United Kingdom
CATEGORIES:Liturgy
ORGANIZER;CN="Church Fathers":MAILTO:contact@stmark.org.uk
END:VEVENT
BEGIN:VEVENT
DTSTART;TZID=Europe/London:20241203T060000
DTEND;TZID=Europe/London:20241203T080000
DTSTAMP:20260425T145422
CREATED:20221008T210357Z
LAST-MODIFIED:20221008T210357Z
UID:4369-1733205600-1733212800@stmark.org.uk
SUMMARY:Liturgy
DESCRIPTION:
URL:https://stmark.org.uk/event/liturgy-111/
LOCATION:St Mark’s Coptic Orthodox Church\, St Mark's Coptic Orthodox Church\, Allen Street\,\, London\, Middlesex\, W8 6UX\, United Kingdom
CATEGORIES:Liturgy
ORGANIZER;CN="Church Fathers":MAILTO:contact@stmark.org.uk
END:VEVENT
BEGIN:VEVENT
DTSTART;TZID=Europe/London:20241204T090000
DTEND;TZID=Europe/London:20241204T110000
DTSTAMP:20260425T145422
CREATED:20221008T212926Z
LAST-MODIFIED:20221008T212926Z
UID:4492-1733302800-1733310000@stmark.org.uk
SUMMARY:Liturgy
DESCRIPTION:
URL:https://stmark.org.uk/event/liturgy-228/
LOCATION:St Mark’s Coptic Orthodox Church\, St Mark's Coptic Orthodox Church\, Allen Street\,\, London\, Middlesex\, W8 6UX\, United Kingdom
CATEGORIES:Liturgy
ORGANIZER;CN="Church Fathers":MAILTO:contact@stmark.org.uk
END:VEVENT
BEGIN:VEVENT
DTSTART;TZID=Europe/London:20241207T090000
DTEND;TZID=Europe/London:20241207T110000
DTSTAMP:20260425T145422
CREATED:20221008T213753Z
LAST-MODIFIED:20221008T213753Z
UID:4609-1733562000-1733569200@stmark.org.uk
SUMMARY:Liturgy
DESCRIPTION:
URL:https://stmark.org.uk/event/liturgy-344/
LOCATION:St Mark’s Coptic Orthodox Church\, St Mark's Coptic Orthodox Church\, Allen Street\,\, London\, Middlesex\, W8 6UX\, United Kingdom
CATEGORIES:Liturgy
ORGANIZER;CN="Church Fathers":MAILTO:contact@stmark.org.uk
END:VEVENT
BEGIN:VEVENT
DTSTART;TZID=Europe/London:20241208T070000
DTEND;TZID=Europe/London:20241208T093000
DTSTAMP:20260425T145422
CREATED:20221008T214421Z
LAST-MODIFIED:20221008T214421Z
UID:4727-1733641200-1733650200@stmark.org.uk
SUMMARY:Liturgy (Arabic)
DESCRIPTION:
URL:https://stmark.org.uk/event/liturgy-arabic-116/
LOCATION:St Mark’s Coptic Orthodox Church\, St Mark's Coptic Orthodox Church\, Allen Street\,\, London\, Middlesex\, W8 6UX\, United Kingdom
CATEGORIES:Liturgy
ORGANIZER;CN="Church Fathers":MAILTO:contact@stmark.org.uk
END:VEVENT
BEGIN:VEVENT
DTSTART;TZID=Europe/London:20241208T100000
DTEND;TZID=Europe/London:20241208T120000
DTSTAMP:20260425T145422
CREATED:20221008T215653Z
LAST-MODIFIED:20221008T215653Z
UID:4845-1733652000-1733659200@stmark.org.uk
SUMMARY:Liturgy (English)
DESCRIPTION:
URL:https://stmark.org.uk/event/liturgy-english-116/
LOCATION:St Mark’s Coptic Orthodox Church\, St Mark's Coptic Orthodox Church\, Allen Street\,\, London\, Middlesex\, W8 6UX\, United Kingdom
CATEGORIES:Liturgy
ORGANIZER;CN="Church Fathers":MAILTO:contact@stmark.org.uk
END:VEVENT
BEGIN:VEVENT
DTSTART;TZID=Europe/London:20241210T060000
DTEND;TZID=Europe/London:20241210T080000
DTSTAMP:20260425T145422
CREATED:20221008T210357Z
LAST-MODIFIED:20221008T210357Z
UID:4370-1733810400-1733817600@stmark.org.uk
SUMMARY:Liturgy
DESCRIPTION:
URL:https://stmark.org.uk/event/liturgy-112/
LOCATION:St Mark’s Coptic Orthodox Church\, St Mark's Coptic Orthodox Church\, Allen Street\,\, London\, Middlesex\, W8 6UX\, United Kingdom
CATEGORIES:Liturgy
ORGANIZER;CN="Church Fathers":MAILTO:contact@stmark.org.uk
END:VEVENT
BEGIN:VEVENT
DTSTART;TZID=Europe/London:20241211T090000
DTEND;TZID=Europe/London:20241211T110000
DTSTAMP:20260425T145422
CREATED:20221008T212926Z
LAST-MODIFIED:20221008T212926Z
UID:4493-1733907600-1733914800@stmark.org.uk
SUMMARY:Liturgy
DESCRIPTION:
URL:https://stmark.org.uk/event/liturgy-229/
LOCATION:St Mark’s Coptic Orthodox Church\, St Mark's Coptic Orthodox Church\, Allen Street\,\, London\, Middlesex\, W8 6UX\, United Kingdom
CATEGORIES:Liturgy
ORGANIZER;CN="Church Fathers":MAILTO:contact@stmark.org.uk
END:VEVENT
BEGIN:VEVENT
DTSTART;TZID=Europe/London:20241214T090000
DTEND;TZID=Europe/London:20241214T110000
DTSTAMP:20260425T145422
CREATED:20221008T213754Z
LAST-MODIFIED:20221008T213754Z
UID:4610-1734166800-1734174000@stmark.org.uk
SUMMARY:Liturgy
DESCRIPTION:
URL:https://stmark.org.uk/event/liturgy-345/
LOCATION:St Mark’s Coptic Orthodox Church\, St Mark's Coptic Orthodox Church\, Allen Street\,\, London\, Middlesex\, W8 6UX\, United Kingdom
CATEGORIES:Liturgy
ORGANIZER;CN="Church Fathers":MAILTO:contact@stmark.org.uk
END:VEVENT
BEGIN:VEVENT
DTSTART;TZID=Europe/London:20241215T070000
DTEND;TZID=Europe/London:20241215T093000
DTSTAMP:20260425T145422
CREATED:20221008T214421Z
LAST-MODIFIED:20221008T214421Z
UID:4728-1734246000-1734255000@stmark.org.uk
SUMMARY:Liturgy (Arabic)
DESCRIPTION:
URL:https://stmark.org.uk/event/liturgy-arabic-117/
LOCATION:St Mark’s Coptic Orthodox Church\, St Mark's Coptic Orthodox Church\, Allen Street\,\, London\, Middlesex\, W8 6UX\, United Kingdom
CATEGORIES:Liturgy
ORGANIZER;CN="Church Fathers":MAILTO:contact@stmark.org.uk
END:VEVENT
BEGIN:VEVENT
DTSTART;TZID=Europe/London:20241215T100000
DTEND;TZID=Europe/London:20241215T120000
DTSTAMP:20260425T145422
CREATED:20221008T215654Z
LAST-MODIFIED:20221008T215654Z
UID:4846-1734256800-1734264000@stmark.org.uk
SUMMARY:Liturgy (English)
DESCRIPTION:
URL:https://stmark.org.uk/event/liturgy-english-117/
LOCATION:St Mark’s Coptic Orthodox Church\, St Mark's Coptic Orthodox Church\, Allen Street\,\, London\, Middlesex\, W8 6UX\, United Kingdom
CATEGORIES:Liturgy
ORGANIZER;CN="Church Fathers":MAILTO:contact@stmark.org.uk
END:VEVENT
BEGIN:VEVENT
DTSTART;TZID=Europe/London:20241217T060000
DTEND;TZID=Europe/London:20241217T080000
DTSTAMP:20260425T145422
CREATED:20221008T210357Z
LAST-MODIFIED:20221008T210357Z
UID:4371-1734415200-1734422400@stmark.org.uk
SUMMARY:Liturgy
DESCRIPTION:
URL:https://stmark.org.uk/event/liturgy-113/
LOCATION:St Mark’s Coptic Orthodox Church\, St Mark's Coptic Orthodox Church\, Allen Street\,\, London\, Middlesex\, W8 6UX\, United Kingdom
CATEGORIES:Liturgy
ORGANIZER;CN="Church Fathers":MAILTO:contact@stmark.org.uk
END:VEVENT
END:VCALENDAR